BEGIN:VCALENDAR
VERSION:2.0
PRODID:-//YourSwing - ECPv4.0.6//NONSGML v1.0//EN
CALSCALE:GREGORIAN
METHOD:PUBLISH
X-WR-CALNAME:YourSwing
X-ORIGINAL-URL:http://www.yourswing.dance
X-WR-CALDESC:Events for YourSwing
BEGIN:VEVENT
DTSTART;TZID="Asia/Taipei":20160716T120000
DTEND;TZID="Asia/Taipei":20160716T170000
DTSTAMP:20260420T103251
CREATED:20160715T183326
LAST-MODIFIED:20160715T183326
UID:4027-1468670400-1468688400@www.yourswing.dance
SUMMARY:YM SWING 玩水囉～
DESCRIPTION:嗨各位看倌們！\n登登登登登，這週六我們就決定要去洛德城堡泳池趴囉～～\n當天現場剛好有個『Havana 哈瓦那泳池派對』，除了有專業ＤＪ之外，從中午12點到下午2點的啤酒是無限暢飲的噢！\n\n接下來重點要來了～\n☀☀幾點集合：7/16 中午12:00 ～ 大家想吃晚餐為止\n(那裡有餐廳，但建議可以先吃點東西，或把美食帶進來)\n\n☀☀趴踢在哪：洛德城堡 (這還用說嗎 :P )\n\n☀☀買通門神：門票一般NT$300\, 學生NT$200\n\n以上，請記得帶著太陽眼鏡、防曬油、毛巾、夾腳拖、梳洗用品、泳衣、鮪魚肚或馬甲線等等（那邊有投幣式吹風機，所以記得帶零錢)\n\n啾哩關心你/妳，我們週末見，呀呼！！！
URL:http://www.yourswing.dance/event/ym-swing-%e7%8e%a9%e6%b0%b4%e5%9b%89%ef%bd%9e/
LOCATION:台北市中正區汀州路三段160巷
GEO:25.0131669;121.5340505
X-APPLE-STRUCTURED-LOCATION;VALUE=URI;X-ADDRESS=台北市中正區汀州路三段160巷;X-APPLE-RADIUS=500;X-TITLE=台北市中正區汀州路三段160巷:geo:121.5340505,25.0131669
CATEGORIES:戶外
ATTACH;FMTTYPE=image/jpeg:http://yourswing.s3-ap-northeast-1.amazonaws.com/wp-content/uploads/2016/07/16023309/13620905_10153743862055754_4811239899336162301_n.jpg
END:VEVENT
END:VCALENDAR