BEGIN:VCALENDAR
VERSION:2.0
PRODID:-//YourSwing - ECPv4.0.6//NONSGML v1.0//EN
CALSCALE:GREGORIAN
METHOD:PUBLISH
X-WR-CALNAME:YourSwing
X-ORIGINAL-URL:http://www.yourswing.dance
X-WR-CALDESC:Events for YourSwing
BEGIN:VEVENT
DTSTART;TZID="Asia/Taipei":20170225T210000
DTEND;TZID="Asia/Taipei":20170225T230000
DTSTAMP:20260420T085626
CREATED:20170220T054053
LAST-MODIFIED:20170220T054053
UID:5173-1488056400-1488063600@www.yourswing.dance
SUMMARY:Swing Party & Swing Contest!
DESCRIPTION:Swingin' it @ BNC! On Saturday the 25th\, we will be hosting\nan epic night of Swing! Come join in the fun or join in the\nmini competition! Its FREE so come on Down !\n▬▬▬▬▬▬▬▬▬▬▬▬▬▬▬\n★SWING CONTEST ★\n▬▬▬▬▬▬▬▬▬▬▬▬▬▬▬\n★COUPLES SWING ★\nWe will be judging a 2 Min Swing Session\n1. technique\n2. wardrobe\n3. style\n4. crowd participation\n\nWinners will recive free drinks\, Gift Cards and the respect all their fellow Swingers! Friday the 25th @ Beer&Cheese Taipei\nFree Entry\n\nBeer&Cheese在本月25號週六晚上再度舉辦Swing Party\n這次除了帶給大家最搖的音樂，Beer&Cheese首度舉辦Swing比賽\n\n不論你是來Party或是參加比賽，一律★免費★\n你/妳還不快橋出25號來大展身手!!!\n▬▬▬▬▬▬▬▬▬▬▬▬▬▬▬\n★SWING CONTEST ★\n▬▬▬▬▬▬▬▬▬▬▬▬▬▬▬\n【比賽資訊】\nOpen Jack & Jill\n比賽時間：2/25(六) 22:30-23:00\n比賽資格：不限\n評審：隆重邀請到 Angela Hong & 楊凱惇 （Kai Dun Yang）\n獎品：免費酒水、神秘Gift Cards
URL:http://www.yourswing.dance/event/swing-party-swing-contest/
LOCATION:基隆路2段117號
CATEGORIES:免費活動,室內
ATTACH;FMTTYPE=image/jpeg:http://yourswing.s3-ap-northeast-1.amazonaws.com/wp-content/uploads/2017/02/20134048/YS-beer-cheese-225.jpg
END:VEVENT
END:VCALENDAR