BEGIN:VCALENDAR
VERSION:2.0
PRODID:-//YourSwing - ECPv4.0.6//NONSGML v1.0//EN
CALSCALE:GREGORIAN
METHOD:PUBLISH
X-WR-CALNAME:YourSwing
X-ORIGINAL-URL:http://www.yourswing.dance
X-WR-CALDESC:Events for YourSwing
BEGIN:VEVENT
DTSTART;TZID="Asia/Taipei":20160502T203000
DTEND;TZID="Asia/Taipei":20160502T235500
DTSTAMP:20260420T090354
CREATED:20160516T120407
LAST-MODIFIED:20160624T050919
UID:3002-1462221000-1462233300@www.yourswing.dance
SUMMARY:SSP★Salud Blues Social
DESCRIPTION:~ ~ ~ BluesSocial 星期一藍調舞會~ ~ ~\nEvery Monday we Enjoy Blues together at Salud^^\nAll Dance & Music Lovers are welcomed!!\nBlues\, Slow Lindy\, & some alternative Music for you~♪\n\n20:30~ Door Open \n21:00~ Free Lesson (Drag Blues) by arrangement\n(* Please check details at following post)\n21:30~ Social Party\n~0:00 Door Close\n\nEntrance $200 with a drink.\nMusic: Salud Special Selection by akiko\n=====================================\n★Salud! Salud Salsa Party★ \n台北市中山區南京東路三段216巷23-1 (MRT南京復興Exit3)\n* Please keep CALM when go outside of the shop. \n* Please DON'T bring-in ANY food or drink.\n=====================================
URL:http://www.yourswing.dance/event/ssp%e2%98%85salud-blues-social/2016-05-02/
LOCATION:	 10488 台北市中山區南京東路三段216巷23-1
GEO:25.050951;121.5435637
X-APPLE-STRUCTURED-LOCATION;VALUE=URI;X-ADDRESS=10488 台北市中山區南京東路三段216巷23-1;X-APPLE-RADIUS=500;X-TITLE=10488 台北市中山區南京東路三段216巷23-1:geo:121.5435637,25.050951
CATEGORIES:Blues,室內,常態Social
ATTACH;FMTTYPE=image/jpeg:http://yourswing.s3-ap-northeast-1.amazonaws.com/wp-content/uploads/2016/05/16200332/13029461_1012897602135747_4096033759731417486_o.jpg
END:VEVENT
END:VCALENDAR