BEGIN:VCALENDAR
VERSION:2.0
PRODID:-//YourSwing - ECPv4.0.6//NONSGML v1.0//EN
CALSCALE:GREGORIAN
METHOD:PUBLISH
X-WR-CALNAME:YourSwing
X-ORIGINAL-URL:http://www.yourswing.dance
X-WR-CALDESC:Events for YourSwing
BEGIN:VEVENT
DTSTART;TZID="Asia/Taipei":20160607T200000
DTEND;TZID="Asia/Taipei":20160607T220000
DTSTAMP:20260420T090613
CREATED:20160624T053430
LAST-MODIFIED:20170808T075709
UID:3850-1465329600-1465336800@www.yourswing.dance
SUMMARY:SITA-Swing In The Air 週二練習團
DESCRIPTION:各位夥伴們，SWING AIRLINES週二晚上練習活動在這喔，歡迎大家每週來練習。\nDear swing friends\,welcome to SITA-Swing In The Air \,we Practice and teach basic steps every Tuesday.\n\n-地點(location): (沒下雨) 華山木板地 (Cloudless)HuaShan 1914 Creative Park\n(下雨)國父紀念館 (Rains)SYS Memorial hall\n-時間(time):20:00-22:00\n-朋友(guests):沒有限制，想邀朋友來的再麻煩自行邀請，有漏掉的幫忙加一下謝謝。unlimited\,please invite your friends\n-每個月一、三週20:30-21:00會有新手小教學哦！歡迎帶新朋友來認識Swing:)\n\n1.垃圾請帶走-留給華山一個乾淨的環境。\n2.請輕踩木地板，木地板剛整修好;同時訓練自己成為更好的舞者，腳步輕踩動作更平順優美。\n3.留通道給行人走，尊重行人的空間。\n4.遵守場地噪音規範，活動時間到22:00結束。\n\n關於搖擺航空：我們的前身是主辦亞洲第三大SWING活動台北林迪舞節的團隊，想跟大家分享快樂跟大家一起出國跳舞\n2014 Taipei Lindy Fest影片：\nhttps://www.youtube.com/watch?v=zgJitM2-FZM\n\nAbout us:We are SWING AIRLINES who were organized 2014 taipei lindy festival\,and willing to do more effort in order to benefit swing environment in Asia.\n2014 Taipei Lindy Fest：\nhttps://www.youtube.com/watch?v=zgJitM2-FZM
URL:http://www.yourswing.dance/event/sita-swing-in-the-air-%e9%80%b1%e4%ba%8c%e7%b7%b4%e7%bf%92%e5%9c%98-2/2016-06-07/
LOCATION:台北市八德路一段1號
GEO:25.044117;121.5294289
X-APPLE-STRUCTURED-LOCATION;VALUE=URI;X-ADDRESS=台北市八德路一段1號;X-APPLE-RADIUS=500;X-TITLE=台北市八德路一段1號:geo:121.5294289,25.044117
CATEGORIES:免費活動,場地,常態Social,性質,戶外,練習
ATTACH;FMTTYPE=image/png:http://yourswing.s3-ap-northeast-1.amazonaws.com/wp-content/uploads/2016/03/29185718/10537034_1638819473073001_7870107413760163284_n-1.png
END:VEVENT
END:VCALENDAR