BEGIN:VCALENDAR
VERSION:2.0
PRODID:-//YourSwing - ECPv4.0.6//NONSGML v1.0//EN
CALSCALE:GREGORIAN
METHOD:PUBLISH
X-WR-CALNAME:YourSwing
X-ORIGINAL-URL:http://www.yourswing.dance
X-WR-CALDESC:Events for YourSwing
BEGIN:VEVENT
DTSTART;TZID="Asia/Taipei":20161223T200000
DTEND;TZID="Asia/Taipei":20161224T000000
DTSTAMP:20260420T085645
CREATED:20161219T052650
LAST-MODIFIED:20161219T052650
UID:4817-1482523200-1482537600@www.yourswing.dance
SUMMARY:Big Apple 1.5th Xmas Party
DESCRIPTION:Big Apple 1.5th Xmas Party is coming!\n\n時間：12/23(五) 20:00-24:00\n(21:30-22:00 會有最嗨聖誕排舞教學喔~)\n地點：Corazon Tango\n票價：$200/人\n( 已購買BA 2nd 聖誕趴者，享有半價 $100/人 優惠！)\n\n活動：\n→ 2016最狂。聖誕趴聯名活動 ←\n如果你已經購買BA 2nd 聖誕趴的入門票的話，12/23就能夠享有史上最狂～～　半。價。優。惠！\n\n→ 2016最嗨。聖誕排舞免費學 ←\n12/23 21:30-22:00\n將會由小編J，為大家帶來一段極富聖誕氣息、又簡單易學的聖誕排舞唷！\n而且學了之後，禮拜六的聖誕趴就可以直接跳一波呢！\n\n→ 2016最暖。聖誕必備熱紅酒 ←\n12/23(五)當天，將會為大家帶來聖誕節必備～～～　熱。紅。酒！\n\n一杯暖♥價，只要$50/杯！\n數量有限，大家要早點來搶購窩！
URL:http://www.yourswing.dance/event/big-apple-1-5th-xmas-party/
LOCATION:台北市大安區復興南路一段92號-9\,1F
GEO:25.0434598;121.5435904
X-APPLE-STRUCTURED-LOCATION;VALUE=URI;X-ADDRESS=台北市大安區復興南路一段92號-91F;X-APPLE-RADIUS=500;X-TITLE=台北市大安區復興南路一段92號-9\,1F:geo:121.5435904,25.0434598
CATEGORIES:室內,常態Social
ATTACH;FMTTYPE=image/jpeg:http://yourswing.s3-ap-northeast-1.amazonaws.com/wp-content/uploads/2016/12/19132640/YS-BA-1.5-XMAS.jpeg
END:VEVENT
END:VCALENDAR