BEGIN:VCALENDAR
VERSION:2.0
PRODID:-//YourSwing - ECPv4.0.6//NONSGML v1.0//EN
CALSCALE:GREGORIAN
METHOD:PUBLISH
X-WR-CALNAME:YourSwing
X-ORIGINAL-URL:http://www.yourswing.dance
X-WR-CALDESC:Events for YourSwing
BEGIN:VEVENT
DTSTART;TZID="Asia/Taipei":20160502T200000
DTEND;TZID="Asia/Taipei":20160502T220000
DTSTAMP:20260420T090153
CREATED:20160516T124051
LAST-MODIFIED:20170808T074230
UID:3432-1462219200-1462226400@www.yourswing.dance
SUMMARY:BAP - Big Apple週一練習團
DESCRIPTION:Big Apple的助教們，帶著大家在這天溫馨的一起複習上課內容～\n\n一起歡樂跳舞、認真練習、輕鬆聊天宵夜：）\n\nBig Apple學生練習團，目的是練習課程內容，轉換到social之間的不足，\n讓你可以找到熟悉的人練習，透過討論與交流才會學的快喔。\n\n時間 : 每個星期一 晚上8:00\n地點 : 華山木地板(忠孝新生捷運站)
URL:http://www.yourswing.dance/event/bap-big-apple%e9%80%b1%e4%b8%80%e7%b7%b4%e7%bf%92%e5%9c%98/2016-05-02/
LOCATION:台北市八德路一段1號
GEO:25.044117;121.5294289
X-APPLE-STRUCTURED-LOCATION;VALUE=URI;X-ADDRESS=台北市八德路一段1號;X-APPLE-RADIUS=500;X-TITLE=台北市八德路一段1號:geo:121.5294289,25.044117
CATEGORIES:免費活動,戶外,練習
ATTACH;FMTTYPE=image/jpeg:http://yourswing.s3-ap-northeast-1.amazonaws.com/wp-content/uploads/2016/05/16203419/1923426_1114824975225225_9036396743442761686_n.jpg
END:VEVENT
END:VCALENDAR