BEGIN:VCALENDAR
VERSION:2.0
PRODID:-//YourSwing - ECPv4.0.6//NONSGML v1.0//EN
CALSCALE:GREGORIAN
METHOD:PUBLISH
X-WR-CALNAME:YourSwing
X-ORIGINAL-URL:http://www.yourswing.dance
X-WR-CALDESC:Events for YourSwing
BEGIN:VEVENT
DTSTART;TZID="Asia/Taipei":20171207T200000
DTEND;TZID="Asia/Taipei":20171207T220000
DTSTAMP:20260420T090356
CREATED:20171205T012204
LAST-MODIFIED:20171205T012235
UID:8750-1512676800-1512684000@www.yourswing.dance
SUMMARY:新竹搖擺 Swing Dance Social Night
DESCRIPTION:Hi 新竹的大家～\n每週四8點～10點在竹筍公園有體驗課和Social Party\n\nSwing Dance就是這麼簡單好玩😘😘\n\n我們還是會從基本6拍教起 \n希望大家能帶親朋好友來玩～\n\nP.S. 這次台北的舞者還是會來新竹玩！大家要把握機會跟他們跳啊！！
URL:http://www.yourswing.dance/event/%e6%96%b0%e7%ab%b9%e6%90%96%e6%93%ba-swing-dance-social-night/2017-12-07/
LOCATION:文化公園（竹筍公園）
GEO:24.830706;121.011025
X-APPLE-STRUCTURED-LOCATION;VALUE=URI;X-ADDRESS=文化公園（竹筍公園）;X-APPLE-RADIUS=500;X-TITLE=文化公園（竹筍公園）:geo:121.011025,24.830706
CATEGORIES:免費活動,常態Social,戶外,新手體驗
ATTACH;FMTTYPE=image/jpeg:http://yourswing.s3-ap-northeast-1.amazonaws.com/wp-content/uploads/2017/12/05092145/23406139_1607279765995602_5436807688844170620_o.jpg
END:VEVENT
END:VCALENDAR