BEGIN:VCALENDAR
VERSION:2.0
PRODID:-//YourSwing - ECPv4.0.6//NONSGML v1.0//EN
CALSCALE:GREGORIAN
METHOD:PUBLISH
X-WR-CALNAME:YourSwing
X-ORIGINAL-URL:http://www.yourswing.dance
X-WR-CALDESC:Events for YourSwing
BEGIN:VEVENT
DTSTART;TZID="Asia/Taipei":20160716T143000
DTEND;TZID="Asia/Taipei":20160716T153000
DTSTAMP:20260420T090106
CREATED:20160624T123448
LAST-MODIFIED:20160624T193918
UID:3920-1468679400-1468683000@www.yourswing.dance
SUMMARY:搖擺書店 誠品快閃
DESCRIPTION:台北街頭熙來人往、藝文書店書香洋溢\n熟悉的翻書聲刷過數載作者智慧\n專注的閱讀者融入萬行字裡故事\n誠品敦南，始終帶給人們求知可望的滿足\n至今依然\n\n7/1(五)的這一天\n從華山1914帶來的火花將與誠品敦南的書香發生碰撞｡:.ﾟヽ(*´∀`)ﾉﾟ.:｡\n要帶給當天所有讀者新的感動啦!!\n\nSwing Taiwan與eslite合作\n將於7/1(五) 1900 \n準時在誠品敦南店做Swing Dance快閃活動!!\n讓誠品讀者親眼目睹、感受Swing Dance給大家快樂的精神\n歡迎大家一起參加拿相機拍下我們快閃時刻吧!!!
URL:http://www.yourswing.dance/event/%e6%90%96%e6%93%ba%e6%9b%b8%e5%ba%97-%e8%aa%a0%e5%93%81%e5%bf%ab%e9%96%83/
LOCATION:台北市大安區敦化南路一段245號2樓
GEO:25.0394894;121.5493278
X-APPLE-STRUCTURED-LOCATION;VALUE=URI;X-ADDRESS=台北市大安區敦化南路一段245號2樓;X-APPLE-RADIUS=500;X-TITLE=台北市大安區敦化南路一段245號2樓:geo:121.5493278,25.0394894
CATEGORIES:免費活動,場地,室內
ATTACH;FMTTYPE=image/jpeg:http://yourswing.s3-ap-northeast-1.amazonaws.com/wp-content/uploads/2016/06/24203254/13522703_1131800353525584_2163315238263687362_o.jpg
ORGANIZER;CN="Swing%20Taiwan":MAILTO: vswingtaiwan@gmail.com
END:VEVENT
END:VCALENDAR