BEGIN:VCALENDAR
VERSION:2.0
PRODID:-//YourSwing - ECPv4.0.6//NONSGML v1.0//EN
CALSCALE:GREGORIAN
METHOD:PUBLISH
X-WR-CALNAME:YourSwing
X-ORIGINAL-URL:http://www.yourswing.dance
X-WR-CALDESC:Events for YourSwing
BEGIN:VEVENT
DTSTART;TZID="Asia/Taipei":20170225T190000
DTEND;TZID="Asia/Taipei":20170225T230000
DTSTAMP:20260420T090757
CREATED:20170220T053621
LAST-MODIFIED:20170220T111147
UID:5171-1488049200-1488063600@www.yourswing.dance
SUMMARY:搖擺時光第三場 Swing Shifts at the Red Room iii
DESCRIPTION:搖擺時光第三場 THE HOT POTS STRING AND BRASS BAND!樂團 : 狂歡節音樂會\nPre Mardi Gras Swing dance with THE HOT POTS STRING AND BRASS BAND!\n2/25 Saturday night 19:30~22:30 Red Room 紅坊國際村\nCover Charge 門票: 400NT\n\n7:00 入場/樂團控音Doors open / band sound check\n7:30 社交舞教學Taster lesson with Big Apple 搖擺舞教室\n8:00 THE HOT POTS STRING AND BRASS BAND上半場表演 first set\n8:45 中場休息時間/跳舞 Set break - Dance\n9:15 THE HOT POTS STRING AND BRASS BAND 下半場表演 second set\n10:00 Dj Time 跳舞 Dance\n11:00晚安 Good Nght\n\n紅坊國際村這次很榮幸能邀請到社交舞學校以及THE HOT POTS STRING AND BRASS BAND樂團Big Apple 搖擺舞教室在紐奧良狂歡節當天來我們的場地演出！\nThe Red Room is proud to collaborate with THE HOT POTS STRING AND BRASS BAND and Big Apple 搖擺舞教室to host the 3rd running of Swing Shifts @ the Red Room\, Mardi Gras Edition.\n\n無論你是第一次跳社交舞還是老鳥，紅坊國際村是一個好地方讓你認識新朋友！\nWhether you've been Swing dancing for years or it's you're first time Swing Shift at the Red Room is a great place to meet other dancers\, try some new moves or just relax and enjoy the music!\n\n現場社交舞樂團\nTHE HOT POTS STRING AND BRASS BAND玩二零三零年代紐奧良傳統爵士音樂。\nLive Swing band!\nTHE HOT POTS STRING AND BRASS BAND plays traditional New Orleans style jazz from the 20s/30s\, ala Louis Armstrong and the Hot Fives\, Clarence Williams and Sidney Bichet\, etc.\nfeaturing an all-star cast of Taipei musicians including jazz maestro Vincent Hsu:\n\nTrumpet 小號: 黃線 (Wu Bai)\nClarinet 黑管: James Liu (JJ and the Catz)\nTrombone 長號: Andy Francis (Reggae Riddims)\nTuba/Sousaphone 大號: Vincent Hsu\nBanjo and Vocals 班卓琴和主唱: David Chen (Muddy Basin Ramblers)\,\nGuitar 吉他: Sylvain Chen (Dark Eyes)\,\n\n紅房地址及聯絡方式\nHow to find us @the Red Room\nAddress:\nTaiwan Air force Base (TAF) 空軍創新基地 「圖書館」LIBRARY\n建國南路一段177號\nNo. 177\, Sec. 1\, Jianguo S. Rd (Intersection of Jianguo S. Rd. and Jinan Rd.)\n\nOur entrance is located on the intersection of Jianguo S. Rd. and Jinan Rd. (TAF side entrance). After passing the gate\, keep marching forward and you’ll see a white building to your left called Library. Make your way to the second floor via the outer staircase on the side.\n\n捷運： 忠孝新生捷運張六號出口\nTravel by MRT:［Zhongxiao Xinsheng Station Exit 6］Walk straight along XinSheng S. Road \, then turn left on Jinan Road Sec. 2 \, continue down and you’ll spot the entrance.\n\nred.room.taipei@gmail.com\n\n0933762077 : Roma \, Keeper of the Faith / 總監\n0910947307 : Manav\, Red Room Reeves / 策展人
URL:http://www.yourswing.dance/event/%e6%90%96%e6%93%ba%e6%99%82%e5%85%89%e7%ac%ac%e4%b8%89%e5%a0%b4-swing-shifts-at-the-red-room-iii/
LOCATION:TAF 空總創新基地 建國南路一段177號
GEO:25.040656;121.537992
X-APPLE-STRUCTURED-LOCATION;VALUE=URI;X-ADDRESS=TAF 空總創新基地 建國南路一段177號;X-APPLE-RADIUS=500;X-TITLE=TAF 空總創新基地 建國南路一段177號:geo:121.537992,25.040656
CATEGORIES:場地,室內,新手體驗,現場樂團
ATTACH;FMTTYPE=image/jpeg:http://yourswing.s3-ap-northeast-1.amazonaws.com/wp-content/uploads/2017/02/20133601/YS-%E6%90%96%E6%93%BA%E6%99%82%E5%85%893.jpg
END:VEVENT
END:VCALENDAR