BEGIN:VCALENDAR
VERSION:2.0
PRODID:-//YourSwing - ECPv4.0.6//NONSGML v1.0//EN
CALSCALE:GREGORIAN
METHOD:PUBLISH
X-WR-CALNAME:YourSwing
X-ORIGINAL-URL:http://www.yourswing.dance
X-WR-CALDESC:Events for YourSwing
BEGIN:VEVENT
DTSTART;TZID="Asia/Taipei":20180306T200000
DTEND;TZID="Asia/Taipei":20180306T220000
DTSTAMP:20260420T105957
CREATED:20180307T031535
LAST-MODIFIED:20240325T072551
UID:9592-1520366400-1520373600@www.yourswing.dance
SUMMARY:【 Swing Airlines 】Tuesday Social Party
DESCRIPTION:Swing Airlines 搖擺航空於每個禮拜二舉辦常態性戶外 social party，歡迎大家一起來跳舞！\n\nSwing Airlines organize the regular outdoor social party every Tuesday\, welcome to join us !!\n\n＊Location :\n沒下雨 - 華山木板地\nCloudless - HuaShan 1914 Creative Park\n\n下雨 - 國父紀念館\nRains - SYS Memorial hall hallways\n\n＊Time : 20:00 - 22:00
URL:http://www.yourswing.dance/event/%e3%80%90-swing-airlines-%e3%80%91tuesday-social-party/2018-03-06/
LOCATION:台北市八德路一段1號
GEO:25.044117;121.5294289
X-APPLE-STRUCTURED-LOCATION;VALUE=URI;X-ADDRESS=台北市八德路一段1號;X-APPLE-RADIUS=500;X-TITLE=台北市八德路一段1號:geo:121.5294289,25.044117
CATEGORIES:免費活動,常態Social,戶外
ATTACH;FMTTYPE=image/jpeg:http://yourswing.s3-ap-northeast-1.amazonaws.com/wp-content/uploads/2018/03/07111519/12970969_1704651629823118_6559830431546849778_o.jpg
END:VEVENT
END:VCALENDAR