BEGIN:VCALENDAR
VERSION:2.0
PRODID:-//YourSwing - ECPv4.0.6//NONSGML v1.0//EN
CALSCALE:GREGORIAN
METHOD:PUBLISH
X-WR-CALNAME:YourSwing
X-ORIGINAL-URL:http://www.yourswing.dance
X-WR-CALDESC:Events for YourSwing
BEGIN:VEVENT
DTSTART;TZID="Asia/Taipei":20180308T200000
DTEND;TZID="Asia/Taipei":20180308T223000
DTSTAMP:20260420T104241
CREATED:20180307T030125
LAST-MODIFIED:20240325T072502
UID:9331-1520539200-1520548200@www.yourswing.dance
SUMMARY:♥︎♡♥︎Balboa Thursday Outdoor Practice♥︎♡♥︎
DESCRIPTION:👫👭👬萬眾期盼的Balboa練習團再開催；這次我們將強勢回歸⚡️⚡️\n----固定每週四於華山木地板，一起動起來!!\n\n🌹🌹心花朵朵開三大特點🌹🌹\n🌼每次有固定練習時間，一起專心進步更快速！（單數週Baby Monster Review；偶數週Big Monster Practice）\n🌼每週有好DJ放好音樂，嚴選推薦不藏私好歌單。\n🌼每月最後一週有免費新人體驗，抱(bal)了就不再放開！\n\n\n♥︎♡♥︎Balboa Thursday Outdoor Practice♥︎♡♥︎\n⭐️時間Time：Every Thursday 8:00-10:30pm\n⭐️費用Fee：免費 Free\n⭐️地點Location：華山木地板 Huashan Creative Park\nhttps://goo.gl/maps/Gd5VAc2u3Mn\n\n🌸Timetable🐕🐕\n8:00-8:30pm Social (DJ music)\n8:30-9:00pm Baby Monster Review/Big Monster Practice\n9:00-10:30pm Social (DJ music)
URL:http://www.yourswing.dance/event/%e2%99%a5%ef%b8%8e%e2%99%a1%e2%99%a5%ef%b8%8ebalboa-thursday-outdoor-practice%e2%99%a5%ef%b8%8e%e2%99%a1%e2%99%a5%ef%b8%8e/2018-03-08/
LOCATION:台北市八德路一段1號
GEO:25.044117;121.5294289
X-APPLE-STRUCTURED-LOCATION;VALUE=URI;X-ADDRESS=台北市八德路一段1號;X-APPLE-RADIUS=500;X-TITLE=台北市八德路一段1號:geo:121.5294289,25.044117
CATEGORIES:免費活動,戶外,練習
ATTACH;FMTTYPE=image/jpeg:http://yourswing.s3-ap-northeast-1.amazonaws.com/wp-content/uploads/2018/03/07105819/28168507_1181087168689692_6164904503799692141_n.jpg
END:VEVENT
END:VCALENDAR